BEGIN:VCALENDAR
VERSION:2.0
PRODID:-//Contratero//ES
CALSCALE:GREGORIAN
METHOD:PUBLISH
BEGIN:VEVENT
UID:19 036 SR JD AB OE32@contratero.es
DTSTAMP:20260425T105827Z
DTSTART:20190802T235959
DTEND:20190803T005959
SUMMARY:Cierre: Servicio de mantenimiento y soporte de licencias M
DESCRIPTION:Servicio de mantenimiento y soporte de licencias Microsoft. Lotes I y II\\n\\nOrganismo: Consejería de Presidencia\, Justicia e Igualdad del Gobierno de Canarias\\n\\nVer en Contratero: https://contratero.es/contracts/19 036 SR JD AB OE32
URL:https://contratero.es/contracts/19 036 SR JD AB OE32
STATUS:CONFIRMED
BEGIN:VALARM
TRIGGER:-P1D
ACTION:DISPLAY
DESCRIPTION:Recordatorio: Servicio de mantenimiento y so
END:VALARM
END:VEVENT
END:VCALENDAR